Workbook
Name kategorie: _vst!$B$2:$B$12
Name měna: _vst!$D$2:$D$35
Name vyrobky: _vst!#REF!
Name zadatel: _vst!$B$16:$B$17
Name zamereni: _vst!$E$2:$E$6

Sheet projekt
A1: Příloha PSP žádosti o zvýhodněný úvěr v programu S-podnik plus
A2: (platná od 1. 4. 2024)
A4: Obchodní firma/ název/ jméno žadatele
A7: IČO
A8: Projekt
A9: 1. Popis projektu
A11: a) | B11: Historie a současnost žadatele, popis činnostia jeho další aktivity, vlastnictví certifikátu ISO či jiné normy, u začínajících podnikatelů důvody zahájení podnikatelské činnosti
A14: b) | B14: Profesní a osobní údaje o vlastnících, členech statutárního orgánu a vedoucích pracovnících žadatele
C15: - v případě fyzické osoby délka praxe v oboru, druh a délka předchozí praxe žadatele nebo odpovědného pracovníka(ů) využitelné pro projekt, zastupitelnost ve vedení;
C16: - v případě obchodní společnosti uvést tytéž údaje u maximálně 4 společníků firmy, členů statutárního orgánu nebo vedoucích pracovníků, vztah mezi vlastníky a vedením,
C17: - vedení společnosti, její stabilita a zkušenosti; odborným garant činnosti, odpovědnost za obchodní vztahy, finance a ekonomiku
A20: c) | B20: Kolik účetních (zdaňovacích) období žadatel za dobu své existence uzavřel, a která období to byla (kalendářní roky nebo specifikace hospodářských roků)
A23: d) | B23: Popis záměru (projektu)
F26: Zaměření projektu | Q26: =IF(G26="",_vst!$C$17,"") -> vyberte z nabídky | V26: =IF(AR26=1,_vst!$C$18,"") | AR26: =IF(AND(AJ114>0,G26=""),1,0) -> 0 | AS26: Nezvoleno zaměření projektu
A28: e) | B28: Místo (místa) realizace projektu
A31: f) | B31: Zahrnuje projekt činnost v oblasti pronájmu či operativního leasingu strojů/zařízení financovaných úvěrem NRB? | AB31: =IF(Z31="",_vst!$C$11,"") -> vyberte ANO/NE
B33: Informace, jaký majetek bude pronajímán a k jakému účelu (např. pronájem výrobního zařízení v rámci kooperace s jiným podnikem) | AN33: =IF(AND(Z31="Ano",B34=""),_vst!$C$19,"")
A36: g) | B36: Majetkoprávní vztahy související s projektem (vlastnictví či pronájem pozemků, budov, strojů a jiného vybavení)
A39: h) | B39: Technicko-technologická charakteristika projektu (popis výrobního či jiného procesu, výkonové parametry)
A42: i) | B42: Dodavatelské zajištění realizace projektu (stavby, strojů, termíny dodávek, předpokládané platební podmínky, smluvní zajištěnívčetně smluv o smlouvách budoucích, závazné objednávky apod.)
A45: j) | B45: Vstupy projektu (zajištěnost energie, vody, materiálu, zboží, hlavní dodavatelé - způsob zajištění)
A48: k) | B48: Komentář ke všem zdrojům financování projektu (co tvoří vlastní zdroje, co tvoří cizí zdroje a jejich splatnost, existence podřízených závazků)
A51: l) | B51: Analýza konkurence a postavení žadatele na trhu, konkurenční výhoda žadatele, marketingové aktivity, perspektiva dalšího růstu trhu
A54: m) | B54: Zabezpečení prodeje, hlavní odběratelé a jejich charakteristika a plánovaný objem odběru zboží/služeb (výhodou je doložení např. zápisy z jednání, předběžnými nabídkami, letters of intent), informace k inkasu peněžních prostředků a formě plateb od odběratelů
A57: n) | B57: Personální zajištění projektu, odborná garance, případná nově vzniklá pracovní místa zaměstnanců, zejména osob znevýhodněných na trhu práce (název pozice, stručné náplně práce, velikost úvazku)
A60: o) | B60: Rozbor tržeb po náběhu projektu do horizontu 36 měsíců
A63: p) | B63: Rozbor provozních nákladů od náběhu projektu do horizontu 36 měsíců, kalkulace hlavních nákladových položek
A66: q) | B66: Z čeho vychází rozbor nákladů a výnosů a tvorba zdrojů (například zkušenosti společníků či managementu z předchozích podnikání, marketingová studie žadatele nebo poradenského subjektu, výsledky obdobných provozů)
A69: r) | B69: Hlavní předpoklady úspěšnosti projektu - silné stránky, rizika projektu (návaznost na jiné podnikatelské aktivity s nadstandardní úrovní vztahů, zapojení rodinných příslušníků atd.)
A72: s) | B72: Strategie dalšího rozvoje žadatele
A75: Pokud některý z bodů není charakterizován, uveďte v příslušném poli text „neuvádí se“. V případě potřeby (např. složitější projekt) zpracujte popis projektu jako samostatný dokument a výše uvedené body použijte jako osnovu.
A77: 2. Předpokládané výdaje na realizaci projektu a jejich financování
F79: Je žadatel plátcem DPH? | G79: Ne | I79: =IF(G79="",_vst!$C$11,"") | N79: =IF($AR$79=1,_vst!$C$25,"") | AR79: =IF(AND(AJ114>0,G79=""),1,0) -> 0 | AS79: Neuvedeno plátce/neplátce
A81: a) Výčet výdajů na realizaci projektu (do tabulky uveďte plánované výdaje v rámci projektu v Kč)
A82: Výdaj | K82: Zařazení | R82: Pořizovací cena (vč. DPH) v měně pořízení | V82: Z toho DPH | Y82: Cizí měna | Z82: Kurz | AB82: Pořizovací cena (vč. DPH) v Kč | AF82: Bude financován (údaje v Kč)
AF83: Zvýhodněným úvěrem NRB | AJ83: Jinými zdroji | AR83: DPH v Kč | AS83: Bez DPH v Kč | AT83: nelze ZVÚ? | AU83: použit ZÚV? | AV83: DPH>PC? | AW83: ZÚV>cena? | AX83: Cizí měna? | AY83: Cizí měna rozpor | AZ83: Jakákoliv chyba
AB84: =IF(R84="","",IF(Z84="",R84,CEILING(R84*Z84,1))) | AJ84: =IF(AB84="","",AB84-AF84) | AN84: =IF(AU84=1,_vst!$C$2,IF(AV84=1,_vst!$C$26,IF(AY84=1,_vst!$C$4,IF(AW84=1,_vst!$C$3,"")))) | AR84: =IF(R84="","",IF(Z84="",V84,CEILING(V84*Z84,1))) | AS84: =IF(OR(R84="",AT84=1),"",AB84-AR84) | AT84: =IF(OR(K84=_vst!$B$9,K84=_vst!$B$10,K84=_vst!$B$11,K84=_vst!$B$12),1,IF(K84=_vst!$B$3,2,0)) -> 0 | AU84: =IF(AF84>0,IF(AT84>0,1,0),0) -> 0 | AV84: =IF(AND($G$79="Ano",AR84>AB84),1,0) -> 0 | AW84: =IF(AF84>AB84,1,0) -> 0 | AX84: =IF(OR(Y84<>"",Z84<>""),1,0) -> 0 | AY84: =IF(OR(AND(Y84="",Z84<>""),AND(Y84<>"",Z84="")),1,0) -> 0 | AZ84: =IF(SUM(AU84:AU112,AV84:AV112,AW84:AW112,AT113,AT116,AY84:AY112,AR124,AR79)=0,0,1) -> 0
AB85: =IF(R85="","",IF(Z85="",R85,CEILING(R85*Z85,1))) | AJ85: =IF(AB85="","",AB85-AF85) | AN85: =IF(AU85=1,_vst!$C$2,IF(AV85=1,_vst!$C$26,IF(AY85=1,_vst!$C$4,IF(AW85=1,_vst!$C$3,"")))) | AR85: =IF(R85="","",IF(Z85="",V85,CEILING(V85*Z85,1))) | AS85: =IF(OR(R85="",AT85=1),"",AB85-AR85) | AT85: =IF(OR(K85=_vst!$B$9,K85=_vst!$B$10,K85=_vst!$B$11,K85=_vst!$B$12),1,IF(K85=_vst!$B$3,2,0)) -> 0 | AU85: =IF(AF85>0,IF(AT85>0,1,0),0) -> 0 | AV85: =IF(AND($G$79="Ano",AR85>AB85),1,0) -> 0 | AW85: =IF(AF85>AB85,1,0) -> 0 | AX85: =IF(OR(Y85<>"",Z85<>""),1,0) -> 0 | AY85: =IF(OR(AND(Y85="",Z85<>""),AND(Y85<>"",Z85="")),1,0) -> 0
AB86: =IF(R86="","",IF(Z86="",R86,CEILING(R86*Z86,1))) | AJ86: =IF(AB86="","",AB86-AF86) | AN86: =IF(AU86=1,_vst!$C$2,IF(AV86=1,_vst!$C$26,IF(AY86=1,_vst!$C$4,IF(AW86=1,_vst!$C$3,"")))) | AR86: =IF(R86="","",IF(Z86="",V86,CEILING(V86*Z86,1))) | AS86: =IF(OR(R86="",AT86=1),"",AB86-AR86) | AT86: =IF(OR(K86=_vst!$B$9,K86=_vst!$B$10,K86=_vst!$B$11,K86=_vst!$B$12),1,IF(K86=_vst!$B$3,2,0)) -> 0 | AU86: =IF(AF86>0,IF(AT86>0,1,0),0) -> 0 | AV86: =IF(AND($G$79="Ano",AR86>AB86),1,0) -> 0 | AW86: =IF(AF86>AB86,1,0) -> 0 | AX86: =IF(OR(Y86<>"",Z86<>""),1,0) -> 0 | AY86: =IF(OR(AND(Y86="",Z86<>""),AND(Y86<>"",Z86="")),1,0) -> 0
AB87: =IF(R87="","",IF(Z87="",R87,CEILING(R87*Z87,1))) | AJ87: =IF(AB87="","",AB87-AF87) | AN87: =IF(AU87=1,_vst!$C$2,IF(AV87=1,_vst!$C$26,IF(AY87=1,_vst!$C$4,IF(AW87=1,_vst!$C$3,"")))) | AR87: =IF(R87="","",IF(Z87="",V87,CEILING(V87*Z87,1))) | AS87: =IF(OR(R87="",AT87=1),"",AB87-AR87) | AT87: =IF(OR(K87=_vst!$B$9,K87=_vst!$B$10,K87=_vst!$B$11,K87=_vst!$B$12),1,IF(K87=_vst!$B$3,2,0)) -> 0 | AU87: =IF(AF87>0,IF(AT87>0,1,0),0) -> 0 | AV87: =IF(AND($G$79="Ano",AR87>AB87),1,0) -> 0 | AW87: =IF(AF87>AB87,1,0) -> 0 | AX87: =IF(OR(Y87<>"",Z87<>""),1,0) -> 0 | AY87: =IF(OR(AND(Y87="",Z87<>""),AND(Y87<>"",Z87="")),1,0) -> 0
AB88: =IF(R88="","",IF(Z88="",R88,CEILING(R88*Z88,1))) | AJ88: =IF(AB88="","",AB88-AF88) | AN88: =IF(AU88=1,_vst!$C$2,IF(AV88=1,_vst!$C$26,IF(AY88=1,_vst!$C$4,IF(AW88=1,_vst!$C$3,"")))) | AR88: =IF(R88="","",IF(Z88="",V88,CEILING(V88*Z88,1))) | AS88: =IF(OR(R88="",AT88=1),"",AB88-AR88) | AT88: =IF(OR(K88=_vst!$B$9,K88=_vst!$B$10,K88=_vst!$B$11,K88=_vst!$B$12),1,IF(K88=_vst!$B$3,2,0)) -> 0 | AU88: =IF(AF88>0,IF(AT88>0,1,0),0) -> 0 | AV88: =IF(AND($G$79="Ano",AR88>AB88),1,0) -> 0 | AW88: =IF(AF88>AB88,1,0) -> 0 | AX88: =IF(OR(Y88<>"",Z88<>""),1,0) -> 0 | AY88: =IF(OR(AND(Y88="",Z88<>""),AND(Y88<>"",Z88="")),1,0) -> 0
AB89: =IF(R89="","",IF(Z89="",R89,CEILING(R89*Z89,1))) | AJ89: =IF(AB89="","",AB89-AF89) | AN89: =IF(AU89=1,_vst!$C$2,IF(AV89=1,_vst!$C$26,IF(AY89=1,_vst!$C$4,IF(AW89=1,_vst!$C$3,"")))) | AR89: =IF(R89="","",IF(Z89="",V89,CEILING(V89*Z89,1))) | AS89: =IF(OR(R89="",AT89=1),"",AB89-AR89) | AT89: =IF(OR(K89=_vst!$B$9,K89=_vst!$B$10,K89=_vst!$B$11,K89=_vst!$B$12),1,IF(K89=_vst!$B$3,2,0)) -> 0 | AU89: =IF(AF89>0,IF(AT89>0,1,0),0) -> 0 | AV89: =IF(AND($G$79="Ano",AR89>AB89),1,0) -> 0 | AW89: =IF(AF89>AB89,1,0) -> 0 | AX89: =IF(OR(Y89<>"",Z89<>""),1,0) -> 0 | AY89: =IF(OR(AND(Y89="",Z89<>""),AND(Y89<>"",Z89="")),1,0) -> 0
AB90: =IF(R90="","",IF(Z90="",R90,CEILING(R90*Z90,1))) | AJ90: =IF(AB90="","",AB90-AF90) | AN90: =IF(AU90=1,_vst!$C$2,IF(AV90=1,_vst!$C$26,IF(AY90=1,_vst!$C$4,IF(AW90=1,_vst!$C$3,"")))) | AR90: =IF(R90="","",IF(Z90="",V90,CEILING(V90*Z90,1))) | AS90: =IF(OR(R90="",AT90=1),"",AB90-AR90) | AT90: =IF(OR(K90=_vst!$B$9,K90=_vst!$B$10,K90=_vst!$B$11,K90=_vst!$B$12),1,IF(K90=_vst!$B$3,2,0)) -> 0 | AU90: =IF(AF90>0,IF(AT90>0,1,0),0) -> 0 | AV90: =IF(AND($G$79="Ano",AR90>AB90),1,0) -> 0 | AW90: =IF(AF90>AB90,1,0) -> 0 | AX90: =IF(OR(Y90<>"",Z90<>""),1,0) -> 0 | AY90: =IF(OR(AND(Y90="",Z90<>""),AND(Y90<>"",Z90="")),1,0) -> 0
AB91: =IF(R91="","",IF(Z91="",R91,CEILING(R91*Z91,1))) | AJ91: =IF(AB91="","",AB91-AF91) | AN91: =IF(AU91=1,_vst!$C$2,IF(AV91=1,_vst!$C$26,IF(AY91=1,_vst!$C$4,IF(AW91=1,_vst!$C$3,"")))) | AR91: =IF(R91="","",IF(Z91="",V91,CEILING(V91*Z91,1))) | AS91: =IF(OR(R91="",AT91=1),"",AB91-AR91) | AT91: =IF(OR(K91=_vst!$B$9,K91=_vst!$B$10,K91=_vst!$B$11,K91=_vst!$B$12),1,IF(K91=_vst!$B$3,2,0)) -> 0 | AU91: =IF(AF91>0,IF(AT91>0,1,0),0) -> 0 | AV91: =IF(AND($G$79="Ano",AR91>AB91),1,0) -> 0 | AW91: =IF(AF91>AB91,1,0) -> 0 | AX91: =IF(OR(Y91<>"",Z91<>""),1,0) -> 0 | AY91: =IF(OR(AND(Y91="",Z91<>""),AND(Y91<>"",Z91="")),1,0) -> 0
AB92: =IF(R92="","",IF(Z92="",R92,CEILING(R92*Z92,1))) | AJ92: =IF(AB92="","",AB92-AF92) | AN92: =IF(AU92=1,_vst!$C$2,IF(AV92=1,_vst!$C$26,IF(AY92=1,_vst!$C$4,IF(AW92=1,_vst!$C$3,"")))) | AR92: =IF(R92="","",IF(Z92="",V92,CEILING(V92*Z92,1))) | AS92: =IF(OR(R92="",AT92=1),"",AB92-AR92) | AT92: =IF(OR(K92=_vst!$B$9,K92=_vst!$B$10,K92=_vst!$B$11,K92=_vst!$B$12),1,IF(K92=_vst!$B$3,2,0)) -> 0 | AU92: =IF(AF92>0,IF(AT92>0,1,0),0) -> 0 | AV92: =IF(AND($G$79="Ano",AR92>AB92),1,0) -> 0 | AW92: =IF(AF92>AB92,1,0) -> 0 | AX92: =IF(OR(Y92<>"",Z92<>""),1,0) -> 0 | AY92: =IF(OR(AND(Y92="",Z92<>""),AND(Y92<>"",Z92="")),1,0) -> 0
AB93: =IF(R93="","",IF(Z93="",R93,CEILING(R93*Z93,1))) | AJ93: =IF(AB93="","",AB93-AF93) | AN93: =IF(AU93=1,_vst!$C$2,IF(AV93=1,_vst!$C$26,IF(AY93=1,_vst!$C$4,IF(AW93=1,_vst!$C$3,"")))) | AR93: =IF(R93="","",IF(Z93="",V93,CEILING(V93*Z93,1))) | AS93: =IF(OR(R93="",AT93=1),"",AB93-AR93) | AT93: =IF(OR(K93=_vst!$B$9,K93=_vst!$B$10,K93=_vst!$B$11,K93=_vst!$B$12),1,IF(K93=_vst!$B$3,2,0)) -> 0 | AU93: =IF(AF93>0,IF(AT93>0,1,0),0) -> 0 | AV93: =IF(AND($G$79="Ano",AR93>AB93),1,0) -> 0 | AW93: =IF(AF93>AB93,1,0) -> 0 | AX93: =IF(OR(Y93<>"",Z93<>""),1,0) -> 0 | AY93: =IF(OR(AND(Y93="",Z93<>""),AND(Y93<>"",Z93="")),1,0) -> 0
AB94: =IF(R94="","",IF(Z94="",R94,CEILING(R94*Z94,1))) | AJ94: =IF(AB94="","",AB94-AF94) | AN94: =IF(AU94=1,_vst!$C$2,IF(AV94=1,_vst!$C$26,IF(AY94=1,_vst!$C$4,IF(AW94=1,_vst!$C$3,"")))) | AR94: =IF(R94="","",IF(Z94="",V94,CEILING(V94*Z94,1))) | AS94: =IF(OR(R94="",AT94=1),"",AB94-AR94) | AT94: =IF(OR(K94=_vst!$B$9,K94=_vst!$B$10,K94=_vst!$B$11,K94=_vst!$B$12),1,IF(K94=_vst!$B$3,2,0)) -> 0 | AU94: =IF(AF94>0,IF(AT94>0,1,0),0) -> 0 | AV94: =IF(AND($G$79="Ano",AR94>AB94),1,0) -> 0 | AW94: =IF(AF94>AB94,1,0) -> 0 | AX94: =IF(OR(Y94<>"",Z94<>""),1,0) -> 0 | AY94: =IF(OR(AND(Y94="",Z94<>""),AND(Y94<>"",Z94="")),1,0) -> 0
AB95: =IF(R95="","",IF(Z95="",R95,CEILING(R95*Z95,1))) | AJ95: =IF(AB95="","",AB95-AF95) | AN95: =IF(AU95=1,_vst!$C$2,IF(AV95=1,_vst!$C$26,IF(AY95=1,_vst!$C$4,IF(AW95=1,_vst!$C$3,"")))) | AR95: =IF(R95="","",IF(Z95="",V95,CEILING(V95*Z95,1))) | AS95: =IF(OR(R95="",AT95=1),"",AB95-AR95) | AT95: =IF(OR(K95=_vst!$B$9,K95=_vst!$B$10,K95=_vst!$B$11,K95=_vst!$B$12),1,IF(K95=_vst!$B$3,2,0)) -> 0 | AU95: =IF(AF95>0,IF(AT95>0,1,0),0) -> 0 | AV95: =IF(AND($G$79="Ano",AR95>AB95),1,0) -> 0 | AW95: =IF(AF95>AB95,1,0) -> 0 | AX95: =IF(OR(Y95<>"",Z95<>""),1,0) -> 0 | AY95: =IF(OR(AND(Y95="",Z95<>""),AND(Y95<>"",Z95="")),1,0) -> 0
AB96: =IF(R96="","",IF(Z96="",R96,CEILING(R96*Z96,1))) | AJ96: =IF(AB96="","",AB96-AF96) | AN96: =IF(AU96=1,_vst!$C$2,IF(AV96=1,_vst!$C$26,IF(AY96=1,_vst!$C$4,IF(AW96=1,_vst!$C$3,"")))) | AR96: =IF(R96="","",IF(Z96="",V96,CEILING(V96*Z96,1))) | AS96: =IF(OR(R96="",AT96=1),"",AB96-AR96) | AT96: =IF(OR(K96=_vst!$B$9,K96=_vst!$B$10,K96=_vst!$B$11,K96=_vst!$B$12),1,IF(K96=_vst!$B$3,2,0)) -> 0 | AU96: =IF(AF96>0,IF(AT96>0,1,0),0) -> 0 | AV96: =IF(AND($G$79="Ano",AR96>AB96),1,0) -> 0 | AW96: =IF(AF96>AB96,1,0) -> 0 | AX96: =IF(OR(Y96<>"",Z96<>""),1,0) -> 0 | AY96: =IF(OR(AND(Y96="",Z96<>""),AND(Y96<>"",Z96="")),1,0) -> 0
... AB112: =IF(R112="","",IF(Z112="",R112,CEILING(R112*Z112,1))) | AJ112: =IF(AB112="","",AB112-AF112) | AN112: =IF(AU112=1,_vst!$C$2,IF(AV112=1,_vst!$C$26,IF(AY112=1,_vst!$C$4,IF(AW112=1,_vst!$C$3,"")))) | AR112: =IF(R112="","",IF(Z112="",V112,CEILING(V112*Z112,1))) | AS112: =IF(OR(R112="",AT112=1),"",AB112-AR112) | AT112: =IF(OR(K112=_vst!$B$9,K112=_vst!$B$10,K112=_vst!$B$11,K112=_vst!$B$12),1,IF(K112=_vst!$B$3,2,0)) -> 0 | AU112: =IF(AF112>0,IF(AT112>0,1,0),0) -> 0 | AV112: =IF(AND($G$79="Ano",AR112>AB112),1,0) -> 0 | AW112: =IF(AF112>AB112,1,0) -> 0 | AX112: =IF(OR(Y112<>"",Z112<>""),1,0) -> 0 | AY112: =IF(OR(AND(Y112="",Z112<>""),AND(Y112<>"",Z112="")),1,0) -> 0
AF113: =SUM(AF84:AI112) -> 0 | AJ113: =SUM(AJ84:AM112) -> 0 | AN113: =IF(AT113=1,_vst!$C$7,"") | AS113: =SUM(AS84:AS112) -> 0 | AT113: =IF(AND(AF113<>0,OR(AF113<AR120,AF113>AR121)),1,0) -> 0 | AU113: ZÚV v povoleném rozmezí?
H114: Datum podání žádosti o úvěr NRB | L114: =IF($AT$116=1,_vst!$C$22,"") | AI114: Výdaje celkem | AJ114: =SUM(AF113:AM113) -> 0 | AT114: =SUM(AX84:AX112) -> 0 | AU114: Úhrada v cizí měně?
H116: Odkaz na kurzy cizích měn: | I116: =IF(projekt!I114="",_vst!C29,HYPERLINK(_vst!E11)) -> odkaz se vygeneruje po zadání data podání žádosti o úvěr | AT116: =IF(AND($AT$114>0,projekt!$I$114=""),1,0) -> 0 | AU116: Není vyplněno datum kurzu?
A118: b) Souhrnné údaje o výdajích na realizaci projektu (údaje v Kč, vypočtené automaticky dle informací v bodě 2a) | AJ118: =IF($AZ$84=0,"",_vst!$C$5) | AR118: Parametry úvěru NRB
B120: Zařazení | P120: Výdaje celkem (vč. DPH) | U120: Způsobilé výdaje projektu | Y120: Zvýhodněný úvěr | AC120: Jiné zdroje | AR120: 400000 | AS120: ZÚV min. | AT120: =AR120/1000000 -> 0.4 | AV120: =AC121+AC125+AC126+AC127+AC129+AC130 -> 0 | AW120: způsobilé výdaje hrazené jinými zdroji
A121: 1 | B121: Dlouhodobý nehmotný majetek (licence, know-how, software) | P121: =SUMIF(K84:Q112,_vst!B2,AB84:AE112) -> 0 | U121: =P121 -> 0 | Y121: =SUMIF(K84:Q112,_vst!B2,AF84:AI112) -> 0 | AC121: =SUMIF(K84:Q112,_vst!B2,AJ84:AM112) -> 0 | AR121: 25000000 | AS121: ZÚV max. | AT121: =AR121/1000000 -> 25 | AV121: =IF($U$136=0,0,AV120/U136) -> 0 | AW121: podíl jiných zdrojů na způsobilých výdajích
A122: 2 | B122: Dlouhodobý hmotný majetek (resp. hmotný majetek) | P122: =P123+P128 -> 0 | U122: =U123+U128 -> 0 | Y122: =Y123+Y128 -> 0 | AC122: =AC123+AC128 -> 0 | AR122: 0.9 | AS122: Max. podíl NRB | AV122: =IF($U$121>0,$U$121/$U$136,0) -> 0 | AW122: DNIM na způsobilých výdajích
A123: 3 | C123: z toho: | D123: nemovité věci celkem | P123: =SUM(P124:T127) -> 0 | U123: =SUM(U124:X127) -> 0 | Y123: =SUM(Y124:AB127) -> 0 | AC123: =SUM(AC124:AF127) -> 0 | AR123: =IF($U$136=0,0,IF($G$79="Ano",AF113/AS113,AF113/U136)) -> 0 | AS123: skutečný podíl | AV123: =IF($Y$121>0,$Y$121/$Y$136,0) -> 0 | AW123: DNIM na ZÚV
A124: 4 | E124: pořízení nezastavěných pozemků | P124: =SUMIF(K84:Q112,_vst!B3,AB84:AE112) -> 0 | U124: =P124 -> 0 | Y124: - | AC124: =SUMIF(K84:Q112,_vst!B3,AJ84:AM112) -> 0 | AR124: =IF(AR123>AR122,1,0) -> 0 | AS124: Překročeno financování ZÚV?
A125: 5 | E125: koupě budov (včetně pozemků) | P125: =SUMIF(K84:Q112,_vst!B4,AB84:AE112) -> 0 | U125: =P125 -> 0 | Y125: =SUMIF(K84:Q112,_vst!B4,AF84:AI112) -> 0 | AC125: =SUMIF(K84:Q112,_vst!B4,AJ84:AM112) -> 0
A126: 6 | E126: výstavba budov | P126: =SUMIF(K84:Q112,_vst!B5,AB84:AE112) -> 0 | U126: =P126 -> 0 | Y126: =SUMIF(K84:Q112,_vst!B5,AF84:AI112) -> 0 | AC126: =SUMIF(K84:Q112,_vst!B5,AJ84:AM112) -> 0
A127: 7 | E127: nástavby, přístavby, rekonstrukce | P127: =SUMIF(K84:Q112,_vst!B6,AB84:AE112) -> 0 | U127: =P127 -> 0 | Y127: =SUMIF(K84:Q112,_vst!B6,AF84:AI112) -> 0 | AC127: =SUMIF(K84:Q112,_vst!B6,AJ84:AM112) -> 0
A128: 8 | D128: stroje a zařízení celkem | P128: =SUM(P129:T130) -> 0 | U128: =SUM(U129:X130) -> 0 | Y128: =SUM(Y129:AB130) -> 0 | AC128: =SUM(AC129:AF130) -> 0
A129: 9 | E129: nové stroje a zařízení | P129: =SUMIF(K84:Q112,_vst!B7,AB84:AE112) -> 0 | U129: =P129 -> 0 | Y129: =SUMIF(K84:Q112,_vst!B7,AF84:AI112) -> 0 | AC129: =SUMIF(K84:Q112,_vst!B7,AJ84:AM112) -> 0
A130: 10 | E130: použité a repasované stroje a zařízení | P130: =SUMIF(K84:Q112,_vst!B8,AB84:AE112) -> 0 | U130: =P130 -> 0 | Y130: =SUMIF(K84:Q112,_vst!$B$8,AF84:AI112) -> 0 | AC130: =SUMIF(K84:Q112,_vst!B8,AJ84:AM112) -> 0
A131: 14 | B131: Dlouhodobý finanční majetek | P131: =SUMIF(K84:Q112,_vst!B9,AB84:AE112) -> 0 | U131: - | Y131: - | AC131: =SUMIF(K84:Q112,_vst!B9,AJ84:AM112) -> 0
A132: 15 | B132: Oběžná aktiva celkem | P132: =SUM(P133:T134) -> 0 | U132: - | Y132: - | AC132: =SUM(AC133:AF134) -> 0
A133: 16 | B133: z toho: | D133: zásoby | P133: =SUMIF(K84:Q112,_vst!B10,AB84:AE112) -> 0 | U133: - | Y133: - | AC133: =SUMIF(K84:Q112,_vst!B10,AJ84:AM112) -> 0
A134: 17 | D134: pohledávky | P134: =SUMIF(K84:Q112,_vst!B11,AB84:AE112) -> 0 | U134: - | Y134: - | AC134: =SUMIF(K84:Q112,_vst!B11,AJ84:AM112) -> 0
A135: 18 | B135: Ostatní výdaje projektu | P135: =SUMIF(K84:Q112,_vst!B12,AB84:AE112) -> 0 | U135: - | Y135: - | AC135: =SUMIF(K84:Q112,_vst!B12,AJ84:AM112) -> 0
A136: 19 | B136: Výdaje celkem | P136: =P121+P122+P131+P132+P135 -> 0 | U136: =U121+U122 -> 0 | Y136: =Y121+Y122 -> 0 | AC136: =AC121+AC122+AC131+AC132+AC135 -> 0
A138: Předpoklad vynaložení výdajů hrazených ze zvýhodněného úvěru v jednotlivých letech realizace projektu | N138: 1. rok | S138: 2. rok | X138: 3. rok | AB138: =IF(AF139<0,_vst!C8,"")
AB139: (zbývá k zařazení: | AF139: =Y136-N139-S139-X139 -> 0
N141: =IF(G79="Ano",_vst!$C$28,_vst!$C$27) -> Podíl Zvýhodněného úvěru na způsobilých výdajích: | O141: =AR123 -> 0 | Q141: - max. | S141: =$AR$122 -> 0.9 | U141: =IF($AR$124=1,_vst!$C$10,"")
N143: Podíl jiných zdrojů financování na způsobilých výdajích celkem: | O143: =$AV$121 -> 0
N145: Dlouhodobý nehmotný majetek - podíl na způsobilých výdajích: | O145: =$AV$122 -> 0 | V145: na zvýhodněném úvěru: | W145: =$AV$123 -> 0
A147: c) Zdroje financování projektu (v Kč)
A149: Zvýhodněný úvěr NRB | H149: Ostatní požadované parametry zvýhodněného úvěru NRB (v měsících)
A150: =Y136 -> 0 | H150: Délka období čerpání | S150: Odklad 1. splátky | Y150: Délka splácení
A152: Vlastní zdroje žadatele
A154: Jiné úvěry
A155: =SUM(V156:Z158) -> 0 | G155: Úvěrující společnost | V155: Výše úvěru (Kč) | AA155: Datum poskytnutí | AF155: Datum splatnosti
A159: Dotace a jiné podpory
A160: =SUM(V161:Z163) -> 0 | G160: Název programu podpory | V160: Výše podpory (Kč) | AA160: Forma podpory
A164: Ostatní zdroje
A165: =SUM(V166:Z168) -> 0 | G165: Zdroj | V165: Výše (Kč) | AA165: Datum poskytnutí | AF165: Datum splatnosti
A168: Celkem
AR169: =IF(A170=0,0,IF(A170<P136,1,0)) -> 0 | AS169: výdaje nejsou kryty zdroji
A170: =SUM(A153,A150,A155,A160,A165) -> 0 | F170: (zbývá k zařazení: | J170: =P136-A170 -> 0 | N170: =IF(J170<(-0.1),_vst!$C$6,"")
A172: 3. Dodavatelsko-odběratelské vztahy (tři největší podle údajů za poslední uzavřený rok)
A173: Hlavní odběratelé | S173: Hlavní dodavatelé
A174: Název odběratele | M174: Objem (Kč) | S174: Název dodavatele | AE174: Objem (Kč)
A179: 4. Směneční ručitelé (avalisté) zvýhodněného úvěru - vyplňte po dohodě s pracovníkem NRB
A180: Obchodní firma / název / jméno avalisty | P180: IČ/RČ | U180: Sídlo společnosti / místo trvalého pobytu
A188: V | P188: dne
A190: Jméno a příjmení osoby oprávněné zastupovat žadatele | J190: Podpis osoby oprávněné zastupovat žadatele1) | Q190: Razítko, pokud je součástí podpisu žadatele
A194: 1) Podpis musí být proveden před pracovníkem NRB nebo úředně ověřen.

Sheet _vst
B1: Kategorie | C1: Hlášky | D1: Měny | E1: Zaměření projektu
B2: Dlouhodobý nehmotný majetek | C2: výdaj nelze hradit ze Zvýhodněného úvěru | D2: EUR | E2: založení nové provozovny
B3: Nezastavěný pozemek | C3: výše financování přesahuje pořizovací cenu | D3: USD | E3: rozšíření kapacity výroby/služeb
B4: Koupě budovy (včetně pozemku) | C4: je vyplněna cizí měna bez kurzu či naopak kurz bez identifikace cizí měny | D4: GBP | E4: rozšíření výrobního sortimentu
B5: Výstavba budovy | C5: ! opravte či doplňte údaje v bodě 2 ! | D5: AUD | E5: zásadní změna celkového výrobního postupu
B6: Nástavba, přístavba, rekonstr. | C6: součet výdajů za jednotlivé zdroje přesahuje celkovou výši výdajů projektu | D6: BGN | E6: zvýšení technolog. úrovně/konkurenceschopnosti
B7: Nové stroje a zařízení | C7: =CONCATENATE("výše zvýhodněného úvěru musí být v rozmezí ",projekt!AT120," - ",projekt!AT121," mil. Kč") -> výše zvýhodněného úvěru musí být v rozmezí 0,4 - 25 mil. Kč | D7: BRL
B8: Použité/repasované stroje a zař. | C8: součet přesahuje výši výdajů financovaných zvýhodněným úvěrem | D8: CAD
B9: Dlouhodobý finanční majetek | C9: zdroje financování jsou nižší než celkové výdaje projektu | D9: CNY | E9: Kurz ČNB
B10: Zásoby | C10: překročen podíl financování úvěrem NRB, je třeba upravit zdroje financování v bodě 2a | D10: DKK | E10: https://www.cnb.cz/cs/financni-trhy/devizovy-trh/kurzy-devizoveho-trhu/kurzy-devizoveho-trhu/index.html?date=
B11: Pohledávky | C11: vyberte ANO/NE | D11: EUR | E11: =CONCATENATE(E10,CONCATENATE(E12,".",E13,".",E14)) -> https://www.cnb.cz/cs/financni-trhy/devizovy-trh/kurzy-devizoveho-trhu/kurzy-devizoveho-trhu/index.html?date=0.1.1900
B12: Ostatní výdaje (nezpůsobilé) | C12: uveďte datum, k němuž byl použitý kurz ČNB stanoven (viz nápověda ke sloupci "Kurz" v tabulce 2a) | D12: HKD | E12: =DAY(projekt!I114) -> 0
C13: specifikujte technologii, produkt či službu, která bude zavedena | D13: HRK | E13: =MONTH(projekt!I114) -> 1
C14: specifikujte, jak souvisí pořízení/rekonstrukce nemovitosti s výdaji na stroje/zařízení | D14: HUF | E14: =YEAR(projekt!I114) -> 1900
B15: Žadatel | C15: mezi způsobilými výdaji v bodě 2a jsou i výdaje na pořízení či rekonstrukci nemovitosti | D15: CHF
B16: Podnik s krátkou historií | C16: vzhledem k podílu výdajů na rekonstrukci nemovitosti je podmínkou podpory zavedení nové technologie, produktu či služby | D16: IDR
B17: Podnik s historií | C17: vyberte z nabídky | D17: ILS
C18: vyberte zaměření projektu | D18: INR
C19: prosím specifikujte | D19: ISK
C20: naplnění priorit programu INFIN není vyplněno nebo je vyplněno jen částečně | D20: JPY
C21: musí být naplněna alespoň jedna z priorit inovativní projekt a/nebo inovativní či rychle se rozvíjející podnik | D21: KRW
C22: vyplňte prosím datum podání žádosti, které Vám sdělí pracovník NRB | D22: MXN
C23: 4. Prohlášení žadatele | D23: MYR
C24: V případě projektu, který předpokládá pronájem movitých věcí pořízených s účastí prostředků zvýhodněného úvěru NRB jiným podnikatelům k jejich podnikatelské činnosti, žadatel prohlašuje, že tento majetek bude pronajímán výhradně malým nebo středním podnikům, kteří jej budou po celou dobu pronájmu převážně používat k ekonomické činnosti podporované v programu S-podnik. | D24: NOK
C25: uveďte, zda je žadatel plátcem DPH | D25: NZD
C26: výše DPH přesahuje pořizovací cenu | D26: PHP
C27: Podíl Zvýhodněného úvěru na způsobilých výdajích: | D27: PLN
C28: Podíl Zvýhodněného úvěru na způsobilých výdajích bez DPH: | D28: RON
C29: odkaz se vygeneruje po zadání data podání žádosti o úvěr | D29: RUB
D30: SEK
D31: SGD
D32: THB
D33: TRY
D34: XDR
D35: ZAR
