Workbook
Name kategorie: _vst!$B$2:$B$12
Name měna: _vst!$D$2:$D$35
Name vyrobky: _vst!#REF!
Name zadatel: _vst!$B$16:$B$17
Name zamereni: _vst!$E$2:$E$6

Sheet projekt
A1: Příloha PSP žádosti o zvýhodněný úvěr v programu S-podnik plus
A2: (platná od 1. 4. 2024)
A4: Obchodní firma/ název/ jméno žadatele
A7: IČO
A8: Projekt
A9: 1. Popis projektu
A11: a) | B11: Historie a současnost žadatele, popis činnostia jeho další aktivity, vlastnictví certifikátu ISO či jiné normy, u začínajících podnikatelů důvody zahájení podnikatelské činnosti
A14: b) | B14: Profesní a osobní údaje o vlastnících, členech statutárního orgánu a vedoucích pracovnících žadatele
C15: - v případě fyzické osoby délka praxe v oboru, druh a délka předchozí praxe žadatele nebo odpovědného pracovníka(ů) využitelné pro projekt, zastupitelnost ve vedení;
C16: - v případě obchodní společnosti uvést tytéž údaje u maximálně 4 společníků firmy, členů statutárního orgánu nebo vedoucích pracovníků, vztah mezi vlastníky a vedením,
C17: - vedení společnosti, její stabilita a zkušenosti; odborným garant činnosti, odpovědnost za obchodní vztahy, finance a ekonomiku
A20: c) | B20: Kolik účetních (zdaňovacích) období žadatel za dobu své existence uzavřel, a která období to byla (kalendářní roky nebo specifikace hospodářských roků)
A23: d) | B23: Popis záměru (projektu)
F26: Zaměření projektu | Q26: =IF(G26="",_vst!$C$17,"") -> vyberte z nabídky | V26: =IF(AR26=1,_vst!$C$18,"") | AR26: =IF(AND(AJ114>0,G26=""),1,0) -> 0 | AS26: Nezvoleno zaměření projektu
A28: e) | B28: Místo (místa) realizace projektu
A31: f) | B31: Zahrnuje projekt činnost v oblasti pronájmu či operativního leasingu strojů/zařízení financovaných úvěrem NRB? | AB31: =IF(Z31="",_vst!$C$11,"") -> vyberte ANO/NE
B33: Informace, jaký majetek bude pronajímán a k jakému účelu (např. pronájem výrobního zařízení v rámci kooperace s jiným podnikem) | AN33: =IF(AND(Z31="Ano",B34=""),_vst!$C$19,"")
A36: g) | B36: Majetkoprávní vztahy související s projektem (vlastnictví či pronájem pozemků, budov, strojů a jiného vybavení)
A39: h) | B39: Technicko-technologická charakteristika projektu (popis výrobního či jiného procesu, výkonové parametry)
A42: i) | B42: Dodavatelské zajištění realizace projektu (stavby, strojů, termíny dodávek, předpokládané platební podmínky, smluvní zajištěnívčetně smluv o smlouvách budoucích, závazné objednávky apod.)
A45: j) | B45: Vstupy projektu (zajištěnost energie, vody, materiálu, zboží, hlavní dodavatelé - způsob zajištění)
A48: k) | B48: Komentář ke všem zdrojům financování projektu (co tvoří vlastní zdroje, co tvoří cizí zdroje a jejich splatnost, existence podřízených závazků)
A51: l) | B51: Analýza konkurence a postavení žadatele na trhu, konkurenční výhoda žadatele, marketingové aktivity, perspektiva dalšího růstu trhu
A54: m) | B54: Zabezpečení prodeje, hlavní odběratelé a jejich charakteristika a plánovaný objem odběru zboží/služeb (výhodou je doložení např. zápisy z jednání, předběžnými nabídkami, letters of intent), informace k inkasu peněžních prostředků a formě plateb od odběratelů
A57: n) | B57: Personální zajištění projektu, odborná garance, případná nově vzniklá pracovní místa zaměstnanců, zejména osob znevýhodněných na trhu práce (název pozice, stručné náplně práce, velikost úvazku)
A60: o) | B60: Rozbor tržeb po náběhu projektu do horizontu 36 měsíců
A63: p) | B63: Rozbor provozních nákladů od náběhu projektu do horizontu 36 měsíců, kalkulace hlavních nákladových položek
A66: q) | B66: Z čeho vychází rozbor nákladů a výnosů a tvorba zdrojů (například zkušenosti společníků či managementu z předchozích podnikání, marketingová studie žadatele nebo poradenského subjektu, výsledky obdobných provozů)
A69: r) | B69: Hlavní předpoklady úspěšnosti projektu - silné stránky, rizika projektu (návaznost na jiné podnikatelské aktivity s nadstandardní úrovní vztahů, zapojení rodinných příslušníků atd.)
A72: s) | B72: Strategie dalšího rozvoje žadatele
A75: Pokud některý z bodů není charakterizován, uveďte v příslušném poli text „neuvádí se“. V případě potřeby (např. složitější projekt) zpracujte popis projektu jako samostatný dokument a výše uvedené body použijte jako osnovu.
A77: 2. Předpokládané výdaje na realizaci projektu a jejich financování
F79: Je žadatel plátcem DPH? | G79: Ne | I79: =IF(G79="",_vst!$C$11,"") | N79: =IF($AR$79=1,_vst!$C$25,"") | AR79: =IF(AND(AJ114>0,G79=""),1,0) -> 0 | AS79: Neuvedeno plátce/neplátce
A81: a) Výčet výdajů na realizaci projektu (do tabulky uveďte plánované výdaje v rámci projektu v Kč)
A82: Výdaj | K82: Zařazení | R82: Pořizovací cena (vč. DPH) v měně pořízení | V82: Z toho DPH | Y82: Cizí měna | Z82: Kurz | AB82: Pořizovací cena (vč. DPH) v Kč | AF82: Bude financován (údaje v Kč)
AF83: Zvýhodněným úvěrem NRB | AJ83: Jinými zdroji | AR83: DPH v Kč | AS83: Bez DPH v Kč | AT83: nelze ZVÚ? | AU83: použit ZÚV? | AV83: DPH>PC? | AW83: ZÚV>cena? | AX83: Cizí měna? | AY83: Cizí měna rozpor | AZ83: Jakákoliv chyba
AB84: =IF(R84="","",IF(Z84="",R84,CEILING(R84*Z84,1))) | AJ84: =IF(AB84="","",AB84-AF84) | AN84: =IF(AU84=1,_vst!$C$2,IF(AV84=1,_vst!$C$26,IF(AY84=1,_vst!$C$4,IF(AW84=1,_vst!$C$3,"")))) | AR84: =IF(R84="","",IF(Z84="",V84,CEILING(V84*Z84,1))) | AS84: =IF(OR(R84="",AT84=1),"",AB84-AR84) | AT84: =IF(OR(K84=_vst!$B$9,K84=_vst!$B$10,K84=_vst!$B$11,K84=_vst!$B$12),1,IF(K84=_vst!$B$3,2,0)) -> 0 | AU84: =IF(AF84>0,IF(AT84>0,1,0),0) -> 0 | AV84: =IF(AND($G$79="Ano",AR84>AB84),1,0) -> 0 | AW84: =IF(AF84>AB84,1,0) -> 0 | AX84: =IF(OR(Y84<>"",Z84<>""),1,0) -> 0 | AY84: =IF(OR(AND(Y84="",Z84<>""),AND(Y84<>"",Z84="")),1,0) -> 0 | AZ84: =IF(SUM(AU84:AU112,AV84:AV112,AW84:AW112,AT113,AT116,AY84:AY112,AR124,AR79)=0,0,1) -> 0
AB85: =IF(R85="","",IF(Z85="",R85,CEILING(R85*Z85,1))) | AJ85: =IF(AB85="","",AB85-AF85) | AN85: =IF(AU85=1,_vst!$C$2,IF(AV85=1,_vst!$C$26,IF(AY85=1,_vst!$C$4,IF(AW85=1,_vst!$C$3,"")))) | AR85: =IF(R85="","",IF(Z85="",V85,CEILING(V85*Z85,1))) | AS85: =IF(OR(R85="",AT85=1),"",AB85-AR85) | AT85: =IF(OR(K85=_vst!$B$9,K85=_vst!$B$10,K85=_vst!$B$11,K85=_vst!$B$12),1,IF(K85=_vst!$B$3,2,0)) -> 0 | AU85: =IF(AF85>0,IF(AT85>0,1,0),0) -> 0 | AV85: =IF(AND($G$79="Ano",AR85>AB85),1,0) -> 0 | AW85: =IF(AF85>AB85,1,0) -> 0 | AX85: =IF(OR(Y85<>"",Z85<>""),1,0) -> 0 | AY85: =IF(OR(AND(Y85="",Z85<>""),AND(Y85<>"",Z85="")),1,0) -> 0
AB86: =IF(R86="","",IF(Z86="",R86,CEILING(R86*Z86,1))) | AJ86: =IF(AB86="","",AB86-AF86) | AN86: =IF(AU86=1,_vst!$C$2,IF(AV86=1,_vst!$C$26,IF(AY86=1,_vst!$C$4,IF(AW86=1,_vst!$C$3,"")))) | AR86: =IF(R86="","",IF(Z86="",V86,CEILING(V86*Z86,1))) | AS86: =IF(OR(R86="",AT86=1),"",AB86-AR86) | AT86: =IF(OR(K86=_vst!$B$9,K86=_vst!$B$10,K86=_vst!$B$11,K86=_vst!$B$12),1,IF(K86=_vst!$B$3,2,0)) -> 0 | AU86: =IF(AF86>0,IF(AT86>0,1,0),0) -> 0 | AV86: =IF(AND($G$79="Ano",AR86>AB86),1,0) -> 0 | AW86: =IF(AF86>AB86,1,0) -> 0 | AX86: =IF(OR(Y86<>"",Z86<>""),1,0) -> 0 | AY86: =IF(OR(AND(Y86="",Z86<>""),AND(Y86<>"",Z86="")),1,0) -> 0
AB87: =IF(R87="","",IF(Z87="",R87,CEILING(R87*Z87,1))) | AJ87: =IF(AB87="","",AB87-AF87) | AN87: =IF(AU87=1,_vst!$C$2,IF(AV87=1,_vst!$C$26,IF(AY87=1,_vst!$C$4,IF(AW87=1,_vst!$C$3,"")))) | AR87: =IF(R87="","",IF(Z87="",V87,CEILING(V87*Z87,1))) | AS87: =IF(OR(R87="",AT87=1),"",AB87-AR87) | AT87: =IF(OR(K87=_vst!$B$9,K87=_vst!$B$10,K87=_vst!$B$11,K87=_vst!$B$12),1,IF(K87=_vst!$B$3,2,0)) -> 0 | AU87: =IF(AF87>0,IF(AT87>0,1,0),0) -> 0 | AV87: =IF(AND($G$79="Ano",AR87>AB87),1,0) -> 0 | AW87: =IF(AF87>AB87,1,0) -> 0 | AX87: =IF(OR(Y87<>"",Z87<>""),1,0) -> 0 | AY87: =IF(OR(AND(Y87="",Z87<>""),AND(Y87<>"",Z87="")),1,0) -> 0
...

Sheet _vst
B1: Kategorie | C1: Hlášky | D1: Měny | E1: Zaměření projektu
B2: Dlouhodobý nehmotný majetek | C2: výdaj nelze hradit ze Zvýhodněného úvěru | D2: EUR | E2: založení nové provozovny
B3: Nezastavěný pozemek | C3: výše financování přesahuje pořizovací cenu | D3: USD | E3: rozšíření kapacity výroby/služeb
B4: Koupě budovy (včetně pozemku) | C4: je vyplněna cizí měna bez kurzu či naopak kurz bez identifikace cizí měny | D4: GBP | E4: rozšíření výrobního sortimentu
B5: Výstavba budovy | C5: ! opravte či doplňte údaje v bodě 2 ! | D5: AUD | E5: zásadní změna celkového výrobního postupu
B6: Nástavba, přístavba, rekonstr. | C6: součet výdajů za jednotlivé zdroje přesahuje celkovou výši výdajů projektu | D6: BGN | E6: zvýšení technolog. úrovně/konkurenceschopnosti
B7: Nové stroje a zařízení | C7: =CONCATENATE("výše zvýhodněného úvěru musí být v rozmezí ",projekt!AT120," - ",projekt!AT121," mil. Kč") -> výše zvýhodněného úvěru musí být v rozmezí 0,4 - 25 mil. Kč | D7: BRL
B8: Použité/repasované stroje a zař. | C8: součet přesahuje výši výdajů financovaných zvýhodněným úvěrem | D8: CAD
B9: Dlouhodobý finanční majetek | C9: zdroje financování jsou nižší než celkové výdaje projektu | D9: CNY | E9: Kurz ČNB
B10: Zásoby | C10: překročen podíl financování úvěrem NRB, je třeba upravit zdroje financování v bodě 2a | D10: DKK | E10: https://www.cnb.cz/cs/financni-trhy/devizovy-trh/kurzy-devizoveho-trhu/kurzy-devizoveho-trhu/index.html?date=
B11: Pohledávky | C11: vyberte ANO/NE | D11: EUR | E11: =CONCATENATE(E10,CONCATENATE(E12,".",E13,".",E14)) -> https://www.cnb.cz/cs/financni-trhy/devizovy-trh/kurzy-devizoveho-trhu/kurzy-devizoveho-trhu/index.html?date=0.1.1900
B12: Ostatní výdaje (nezpůsobilé) | C12: uveďte datum, k němuž byl použitý kurz ČNB stanoven (viz nápověda ke sloupci "Kurz" v tabulce 2a) | D12: HKD | E12: =DAY(projekt!I114) -> 0
C13: specifikujte technologii, produkt či službu, která bude zavedena | D13: HRK | E13: =MONTH(projekt!I114) -> 1
C14: specifikujte, jak souvisí pořízení/rekonstrukce nemovitosti s výdaji na stroje/zařízení | D14: HUF | E14: =YEAR(projekt!I114) -> 1900
B15: Žadatel | C15: mezi způsobilými výdaji v bodě 2a jsou i výdaje na pořízení či rekonstrukci nemovitosti | D15: CHF
B16: Podnik s krátkou historií | C16: vzhledem k podílu výdajů na rekonstrukci nemovitosti je podmínkou podpory zavedení nové technologie, produktu či služby | D16: IDR
B17: Podnik s historií | C17: vyberte z nabídky | D17: ILS
C18: vyberte zaměření projektu | D18: INR
C19: prosím specifikujte | D19: ISK
C20: naplnění priorit programu INFIN není vyplněno nebo je vyplněno jen částečně | D20: JPY
C21: musí být naplněna alespoň jedna z priorit inovativní projekt a/nebo inovativní či rychle se rozvíjející podnik | D21: KRW
C22: vyplňte prosím datum podání žádosti, které Vám sdělí pracovník NRB | D22: MXN
C23: 4. Prohlášení žadatele | D23: MYR
C24: V případě projektu, který předpokládá pronájem movitých věcí pořízených s účastí prostředků zvýhodněného úvěru NRB jiným podnikatelům k jejich podnikatelské činnosti, žadatel prohlašuje, že tento majetek bude pronajímán výhradně malým nebo středním podnikům, kteří jej budou po celou dobu pronájmu převážně používat k ekonomické činnosti podporované v programu S-podnik. | D24: NOK
C25: uveďte, zda je žadatel plátcem DPH | D25: NZD
C26: výše DPH přesahuje pořizovací cenu | D26: PHP
C27: Podíl Zvýhodněného úvěru na způsobilých výdajích: | D27: PLN
C28: Podíl Zvýhodněného úvěru na způsobilých výdajích bez DPH: | D28: RON
C29: odkaz se vygeneruje po zadání data podání žádosti o úvěr | D29: RUB
D30: SEK
D31: SGD
D32: THB
D33: TRY
D34: XDR
D35: ZAR
